BEGIN:VCALENDAR
VERSION:2.0
PRODID:-//DP Pro Event Calendar//3.2.7//EN
BEGIN:VEVENT
UID:97cfd398-1324-4dd9-b10e-78f1edeffa75
DTSTART;TZID=Europe/Berlin;VALUE=DATE:20250619
DTEND;TZID=Europe/Berlin;VALUE=DATE:20250620
DTSTAMP:20251026T020405Z
SUMMARY:Fronleichnam - schulfrei
DESCRIPTION:
LOCATION:
URL:
END:VEVENT
END:VCALENDAR