BEGIN:VCALENDAR
VERSION:2.0
PRODID:-//DP Pro Event Calendar//3.2.7//EN
BEGIN:VEVENT
UID:46635c76-88e8-4808-8a43-9daabfdcce31
DTSTART;TZID=Europe/Berlin:20250612T140000
DTEND;TZID=Europe/Berlin:20250612T160000
DTSTAMP:20251020T120330Z
SUMMARY:Finale Lesewettbewerb Stadbücherei Löhne
DESCRIPTION:
LOCATION:
URL:
END:VEVENT
END:VCALENDAR