BEGIN:VCALENDAR
VERSION:2.0
PRODID:-//DP Pro Event Calendar//3.2.7//EN
BEGIN:VEVENT
UID:669bc346-6fd9-484a-a4f4-ae80fdc51288
DTSTART;TZID=Europe/Berlin:20250206T080000
DTEND;TZID=Europe/Berlin:20250206T132000
DTSTAMP:20251020T120330Z
SUMMARY:Klassensprecherkonferenz in HF
DESCRIPTION:
LOCATION:
URL:
END:VEVENT
END:VCALENDAR