BEGIN:VCALENDAR
VERSION:2.0
PRODID:-//DP Pro Event Calendar//3.2.7//EN
BEGIN:VEVENT
UID:55e0680f-67d0-47b3-a827-5e7793bf3370
DTSTART;TZID=Europe/Berlin:20241121T083000
DTEND;TZID=Europe/Berlin:20241121T160000
DTSTAMP:20251020T120330Z
SUMMARY:SchilF
DESCRIPTION:
LOCATION:
URL:
ATTACH;FMTTYPE=image/jpeg:https://grundschule-melbergen-wittel.de/wp-content/uploads/2025/05/IMG_2928-1024x286.jpeg
END:VEVENT
END:VCALENDAR