BEGIN:VCALENDAR
VERSION:2.0
PRODID:-//DP Pro Event Calendar//3.2.7//EN
BEGIN:VEVENT
UID:6a52b2b7-7596-4515-9736-ec2143d7c118
DTSTART;TZID=Europe/Berlin;VALUE=DATE:20241115
DTEND;TZID=Europe/Berlin;VALUE=DATE:20241116
DTSTAMP:20251020T120330Z
SUMMARY:Elternsprechwoche
DESCRIPTION:
LOCATION:
URL:
END:VEVENT
END:VCALENDAR