BEGIN:VCALENDAR
VERSION:2.0
PRODID:-//DP Pro Event Calendar//3.2.7//EN
BEGIN:VEVENT
UID:896066f2-cdcd-4546-b0fb-3ae89193344e
DTSTART;TZID=Europe/Berlin;VALUE=DATE:20241113
DTEND;TZID=Europe/Berlin;VALUE=DATE:20241114
DTSTAMP:20251020T120330Z
SUMMARY:Elternsprechwoche
DESCRIPTION:
LOCATION:
URL:
END:VEVENT
END:VCALENDAR