BEGIN:VCALENDAR
VERSION:2.0
PRODID:-//DP Pro Event Calendar//3.2.7//EN
BEGIN:VEVENT
UID:1f06acb3-5848-4932-9b53-ef801d2f9957
DTSTART;TZID=Europe/Berlin;VALUE=DATE:20240326
DTEND;TZID=Europe/Berlin;VALUE=DATE:20240327
DTSTAMP:20251026T020407Z
SUMMARY:Osterferien
DESCRIPTION:
LOCATION:
URL:
END:VEVENT
END:VCALENDAR