BEGIN:VCALENDAR
VERSION:2.0
PRODID:-//DP Pro Event Calendar//3.2.7//EN
BEGIN:VEVENT
UID:3d3436e5-1ecb-437f-a0ea-4fe86f0fa14f
DTSTART;TZID=Europe/Berlin;VALUE=DATE:20240126
DTEND;TZID=Europe/Berlin;VALUE=DATE:20240127
DTSTAMP:20251026T020407Z
SUMMARY:Ausgabe der Zeugnisse - Unterrichtsschluss um 10:45 Uhr
DESCRIPTION:
LOCATION:
URL:
END:VEVENT
END:VCALENDAR