BEGIN:VCALENDAR
VERSION:2.0
PRODID:-//DP Pro Event Calendar//3.2.7//EN
BEGIN:VEVENT
UID:00ffa60f-b241-41bc-8609-e05478da3b8b
DTSTART;TZID=Europe/Berlin:20231208T163000
DTEND;TZID=Europe/Berlin:20231208T170000
DTSTAMP:20260423T110326Z
SUMMARY:Auftritt des Chors auf dem Weihnachtsmarkt Gohfeld
DESCRIPTION:
LOCATION:
URL:
END:VEVENT
END:VCALENDAR