BEGIN:VCALENDAR
VERSION:2.0
PRODID:-//DP Pro Event Calendar//3.2.7//EN
BEGIN:VEVENT
UID:b1e749a2-5799-47c0-bb5f-5cbeb5509062
DTSTART;TZID=Europe/Berlin:20231125T090000
DTEND;TZID=Europe/Berlin:20231125T120000
DTSTAMP:20251026T020406Z
SUMMARY:Tag der offenen Tür der Bertolt-Brecht-Gesamtschule Löhne
DESCRIPTION:
LOCATION:
URL:
END:VEVENT
END:VCALENDAR