BEGIN:VCALENDAR
VERSION:2.0
PRODID:-//DP Pro Event Calendar//3.2.7//EN
BEGIN:VEVENT
UID:8c9b9b7a-df9e-442c-97b1-56f2c785b1d9
DTSTART;TZID=Europe/Berlin;VALUE=DATE:20231027
DTEND;TZID=Europe/Berlin;VALUE=DATE:20231028
DTSTAMP:20251026T020406Z
SUMMARY:Umweltbildungskurse zum Thema &#8222\;Wasser sparen&#8220\; in den Klassen 1-4
DESCRIPTION:
LOCATION:
URL:
END:VEVENT
END:VCALENDAR