BEGIN:VCALENDAR
VERSION:2.0
PRODID:-//DP Pro Event Calendar//3.2.7//EN
BEGIN:VEVENT
UID:449812c1-2a5b-4194-978b-9859b13944ac
DTSTART;TZID=Europe/Berlin;VALUE=DATE:20231025
DTEND;TZID=Europe/Berlin;VALUE=DATE:20231026
DTSTAMP:20251026T020406Z
SUMMARY:Umweltbildungskurse zum Thema &#8222\;Wasser sparen&#8220\; in den Klassen 1-4
DESCRIPTION:
LOCATION:
URL:
END:VEVENT
END:VCALENDAR