BEGIN:VCALENDAR
VERSION:2.0
PRODID:-//DP Pro Event Calendar//3.2.7//EN
BEGIN:VEVENT
UID:82763a3e-e844-470e-99c7-65bab00bb92c
DTSTART;TZID=Europe/Berlin:20230928T080000
DTEND;TZID=Europe/Berlin:20230928T123000
DTSTAMP:20260423T150405Z
SUMMARY:Bundesjugendspiele
DESCRIPTION:
LOCATION:
URL:
END:VEVENT
END:VCALENDAR