BEGIN:VCALENDAR
VERSION:2.0
PRODID:-//DP Pro Event Calendar//3.2.7//EN
BEGIN:VEVENT
UID:02b247c3-a599-4b92-b2f3-ed1b189e627c
DTSTART;TZID=Europe/Berlin;VALUE=DATE:20230922
DTEND;TZID=Europe/Berlin;VALUE=DATE:20230923
DTSTAMP:20251026T020406Z
SUMMARY:Klassenfahrt 4a/4b
DESCRIPTION:
LOCATION:
URL:
END:VEVENT
END:VCALENDAR