BEGIN:VCALENDAR
VERSION:2.0
PRODID:-//DP Pro Event Calendar//3.2.7//EN
BEGIN:VEVENT
UID:69fb36a2-0be7-4ebd-88d5-15201d72e5a7
DTSTART;TZID=Europe/Berlin;VALUE=DATE:20230608
DTEND;TZID=Europe/Berlin;VALUE=DATE:20230609
DTSTAMP:20251026T020405Z
SUMMARY:Feiertag - schulfrei
DESCRIPTION:
LOCATION:
URL:
END:VEVENT
END:VCALENDAR