BEGIN:VCALENDAR
VERSION:2.0
PRODID:-//DP Pro Event Calendar//3.2.7//EN
BEGIN:VEVENT
UID:994fcad3-eb01-44f6-b519-c9d99684d0a0
DTSTART;TZID=Europe/Berlin;VALUE=DATE:20230530
DTEND;TZID=Europe/Berlin;VALUE=DATE:20230531
DTSTAMP:20251026T020405Z
SUMMARY:beweglicher Ferientag - schulfrei!
DESCRIPTION:
LOCATION:
URL:
END:VEVENT
END:VCALENDAR