BEGIN:VCALENDAR
VERSION:2.0
PRODID:-//DP Pro Event Calendar//3.2.7//EN
BEGIN:VEVENT
UID:5e271b6c-56eb-47c9-894d-93e97aa1d6b3
DTSTART;TZID=Europe/Berlin;VALUE=DATE:20221007
DTEND;TZID=Europe/Berlin;VALUE=DATE:20221008
DTSTAMP:20260421T110329Z
SUMMARY:Herbstferien
DESCRIPTION:
LOCATION:
URL:
END:VEVENT
END:VCALENDAR