BEGIN:VCALENDAR
VERSION:2.0
PRODID:-//DP Pro Event Calendar//3.2.7//EN
BEGIN:VEVENT
UID:2ebaa5ed-2b7b-46fc-84b4-8937e494939f
DTSTART;TZID=Europe/Berlin;VALUE=DATE:20210514
DTEND;TZID=Europe/Berlin;VALUE=DATE:20210515
DTSTAMP:20260425T160319Z
SUMMARY:Beweglicher Ferientag
DESCRIPTION:
LOCATION:
URL:
END:VEVENT
END:VCALENDAR